BEGIN:VCALENDAR
VERSION:2.0
METHOD:PUBLISH
BEGIN:VEVENT
DTSTAMP:20260421T105442Z
DTSTART:20220701T223000Z
DTEND:20220702T010000Z
SUMMARY:Canada Day Concert at Island Lake Conservation Area
LOCATION:673067 Hurontario St, Orangeville, ON 
END:VEVENT
END:VCALENDAR
