BEGIN:VCALENDAR
VERSION:2.0
METHOD:PUBLISH
BEGIN:VEVENT
DTSTAMP:20260421T093418Z
DTSTART:20220701T154500Z
DTEND:20220701T210000Z
SUMMARY:Canada Day Celebrations at Alder Recreation Centre
LOCATION:275 Alder St, Orangeville, ON 
END:VEVENT
END:VCALENDAR
