BEGIN:VCALENDAR
VERSION:2.0
METHOD:PUBLISH
BEGIN:VEVENT
DTSTAMP:20260421T105322Z
DTSTART:20220625T160000Z
DTEND:20220625T190000Z
SUMMARY:Indigenous Peoples Day
LOCATION:Alder Recreation Centre Soccer Fields - 275 Alder Street, Orangeville, ON
END:VEVENT
END:VCALENDAR
