BEGIN:VCALENDAR
VERSION:2.0
METHOD:PUBLISH
BEGIN:VEVENT
DTSTAMP:20260421T093837Z
DTSTART:20220618T170000Z
DTEND:20220619T030000Z
SUMMARY:Celebrate Your Awesome
LOCATION:Mill Street, Orangeville, ON
END:VEVENT
END:VCALENDAR
