BEGIN:VCALENDAR
VERSION:2.0
METHOD:PUBLISH
BEGIN:VEVENT
DTSTAMP:20260425T155935Z
DTSTART:20260506T140000Z
DTEND:20260506T210000Z
SUMMARY:In Harmony by Headwaters Arts
LOCATION:Alton Mill Arts Centre, 1402 Queen Street West, Alton, Ontario
END:VEVENT
END:VCALENDAR
