BEGIN:VCALENDAR
VERSION:2.0
METHOD:PUBLISH
BEGIN:VEVENT
DTSTAMP:20260423T140431Z
DTSTART:20260426T193000Z
DTEND:20260426T193000Z
SUMMARY:Return to spring concert presented by Achill Choral Society
LOCATION:Westminster United Church, 247 Broadway, Orangeville ON
END:VEVENT
END:VCALENDAR
