BEGIN:VCALENDAR
VERSION:2.0
METHOD:PUBLISH
BEGIN:VEVENT
DTSTAMP:20260423T003032Z
DTSTART:20251202T021000Z
DTEND:20251202T021000Z
SUMMARY:Monday Night at the Movies
LOCATION:85 Fifth Avenue, Orangeville
END:VEVENT
END:VCALENDAR
