BEGIN:VCALENDAR
VERSION:2.0
METHOD:PUBLISH
BEGIN:VEVENT
DTSTAMP:20260422T220309Z
DTSTART:20251201T213000Z
DTEND:20251201T213000Z
SUMMARY:Monday Night at the Movies
LOCATION:85 Fifth Avenue, Orangeville
END:VEVENT
END:VCALENDAR
