BEGIN:VCALENDAR
VERSION:2.0
METHOD:PUBLISH
BEGIN:VEVENT
DTSTAMP:20260422T204231Z
DTSTART:20251026T230000Z
DTEND:20251026T230000Z
SUMMARY:Authors on Stage - Chris Hadfield 
LOCATION:87 Broadway, Orangeville, ON
END:VEVENT
END:VCALENDAR
