BEGIN:VCALENDAR
VERSION:2.0
METHOD:PUBLISH
BEGIN:VEVENT
DTSTAMP:20260422T204100Z
DTSTART:20251026T140000Z
DTEND:20251026T190000Z
SUMMARY:The Mom Market
LOCATION:Tony Rose Memorial Sports Centre, 6 Northmen Way, Orangeville, ON
END:VEVENT
END:VCALENDAR
