BEGIN:VCALENDAR
VERSION:2.0
METHOD:PUBLISH
BEGIN:VEVENT
DTSTAMP:20260422T193247Z
DTSTART:20251020T203000Z
DTEND:20251020T203000Z
SUMMARY:Monday Night at the Movies
LOCATION:85 Fifth Avenue, Orangeville
END:VEVENT
END:VCALENDAR
