BEGIN:VCALENDAR
VERSION:2.0
METHOD:PUBLISH
BEGIN:VEVENT
DTSTAMP:20260422T220022Z
DTSTART:20251019T180000Z
DTEND:20251019T180000Z
SUMMARY:The Wonder of it All 
LOCATION:Theatre Orangeville, 87 Broadway, Orangeville, ON
END:VEVENT
END:VCALENDAR
