BEGIN:VCALENDAR
VERSION:2.0
METHOD:PUBLISH
BEGIN:VEVENT
DTSTAMP:20260422T180638Z
DTSTART:20251018T190000Z
DTEND:20251018T190000Z
SUMMARY:Orangeville Community Band Thanksgiving Concert
LOCATION:New Hope Community Church, 690 Riddell Road, Orangeville ON
END:VEVENT
END:VCALENDAR
