BEGIN:VCALENDAR
VERSION:2.0
METHOD:PUBLISH
BEGIN:VEVENT
DTSTAMP:20260422T180510Z
DTSTART:20251018T180000Z
DTEND:20251018T194500Z
SUMMARY:Monster Trucks All Out
LOCATION:247090 Side Rd 5, Mono, ON L9W6K5, Side Rd 5, Mono, ON L9W 6K5
END:VEVENT
END:VCALENDAR
