BEGIN:VCALENDAR
VERSION:2.0
METHOD:PUBLISH
BEGIN:VEVENT
DTSTAMP:20260422T192847Z
DTSTART:20251018T160000Z
DTEND:20251019T030000Z
SUMMARY:Oktoberfest
LOCATION:MIll Street, Orangeville, ON
END:VEVENT
END:VCALENDAR
