BEGIN:VCALENDAR
VERSION:2.0
METHOD:PUBLISH
BEGIN:VEVENT
DTSTAMP:20260422T204115Z
DTSTART:20251018T133000Z
DTEND:20251018T163000Z
SUMMARY:Orangeville Community Tree Planting
LOCATION:The greenspace behind 46 Broadway
END:VEVENT
END:VCALENDAR
