BEGIN:VCALENDAR
VERSION:2.0
METHOD:PUBLISH
BEGIN:VEVENT
DTSTAMP:20260422T204141Z
DTSTART:20251018T130000Z
DTEND:20251018T170000Z
SUMMARY:Boo on Broadway (and beyond)
LOCATION:87 Broadway, ON
END:VEVENT
END:VCALENDAR
