BEGIN:VCALENDAR
VERSION:2.0
METHOD:PUBLISH
BEGIN:VEVENT
DTSTAMP:20260422T193035Z
DTSTART:20251018T123000Z
DTEND:20251018T200000Z
SUMMARY:Bruce Trail Club - Boyne Valley 25K Challenge Hike
LOCATION:716599 1st Line East,&nbsp; Mulmur
END:VEVENT
END:VCALENDAR
