BEGIN:VCALENDAR
VERSION:2.0
METHOD:PUBLISH
BEGIN:VEVENT
DTSTAMP:20260422T193203Z
DTSTART:20251014T223000Z
DTEND:20251015T003000Z
SUMMARY:Orangeville and District Horticultural Monthly Meeting
LOCATION:Orangeville Senior Centre, 26 Bythia St, L9W 2S1
END:VEVENT
END:VCALENDAR
