BEGIN:VCALENDAR
VERSION:2.0
METHOD:PUBLISH
BEGIN:VEVENT
DTSTAMP:20260422T193050Z
DTSTART:20251008T110000Z
DTEND:20251008T110000Z
SUMMARY:Ontario SPCA Neuter Scooter!
LOCATION:650 Riddell Rd, Orangeville ON
END:VEVENT
END:VCALENDAR
