BEGIN:VCALENDAR
VERSION:2.0
METHOD:PUBLISH
BEGIN:VEVENT
DTSTAMP:20260422T180957Z
DTSTART:20251005T140000Z
DTEND:20251005T180000Z
SUMMARY:Bruce Trail Day -  Music Walk @ Splitrock Narrows
LOCATION:Splitrock Narrows, 755437 2nd Line EHS, Mono
END:VEVENT
END:VCALENDAR
