BEGIN:VCALENDAR
VERSION:2.0
METHOD:PUBLISH
BEGIN:VEVENT
DTSTAMP:20260422T204602Z
DTSTART:20251004T140000Z
DTEND:20251004T210000Z
SUMMARY:Fall Festival Juried Art Show and Sale
LOCATION:Alton Mill Arts Centre, 1402 Queen Street West, Alton, Ontario
END:VEVENT
END:VCALENDAR
