BEGIN:VCALENDAR
VERSION:2.0
METHOD:PUBLISH
BEGIN:VEVENT
DTSTAMP:20260422T204217Z
DTSTART:20251004T130000Z
DTEND:20251004T180000Z
SUMMARY:Harvest Home Bazaar
LOCATION:247 Broadway, Orangeville
END:VEVENT
END:VCALENDAR
