BEGIN:VCALENDAR
VERSION:2.0
METHOD:PUBLISH
BEGIN:VEVENT
DTSTAMP:20260419T164254Z
DTSTART:20250901T120000Z
DTEND:20250901T170000Z
SUMMARY:Island Lake Classic
LOCATION:Island Lake Conservation Area, 673037 Hurontario Street, Orangeville, ON
END:VEVENT
END:VCALENDAR
