BEGIN:VCALENDAR
VERSION:2.0
METHOD:PUBLISH
BEGIN:VEVENT
DTSTAMP:20260419T152138Z
DTSTART:20250830T153000Z
DTEND:20250830T190000Z
SUMMARY:Summer Sounds - Live on Broadway
LOCATION:87 Broadway, Orangeville, ON
END:VEVENT
END:VCALENDAR
