BEGIN:VCALENDAR
VERSION:2.0
METHOD:PUBLISH
BEGIN:VEVENT
DTSTAMP:20260419T152547Z
DTSTART:20250829T200000Z
DTEND:20250830T030000Z
SUMMARY:The Orangeville Fall Fair
LOCATION:OAS Event Centre 247090 Side Road 5, Mono, ON  L9W 6K5
END:VEVENT
END:VCALENDAR
