BEGIN:VCALENDAR
VERSION:2.0
METHOD:PUBLISH
BEGIN:VEVENT
DTSTAMP:20260419T192125Z
DTSTART:20250824T180000Z
DTEND:20250824T180000Z
SUMMARY:The Neverending Story 
LOCATION:87 Broadway, Orangeville, ON
END:VEVENT
END:VCALENDAR
