BEGIN:VCALENDAR
VERSION:2.0
METHOD:PUBLISH
BEGIN:VEVENT
DTSTAMP:20260419T192848Z
DTSTART:20250823T233000Z
DTEND:20250824T010000Z
SUMMARY:Caledon Music Festival 2025: 'A journey into Cabaret and Broadway' 
LOCATION:247 Broadway, Orangeville, ON L9W 2Z5
END:VEVENT
END:VCALENDAR
