BEGIN:VCALENDAR
VERSION:2.0
METHOD:PUBLISH
BEGIN:VEVENT
DTSTAMP:20260419T210052Z
DTSTART:20250823T180000Z
DTEND:20250823T190000Z
SUMMARY:The Fulcrum Book Launch with Author Michael Decter
LOCATION:Booklore, 121 First St Orangeville, Ontario L9W
END:VEVENT
END:VCALENDAR
