BEGIN:VCALENDAR
VERSION:2.0
METHOD:PUBLISH
BEGIN:VEVENT
DTSTAMP:20260419T163848Z
DTSTART:20250823T150000Z
DTEND:20250823T200000Z
SUMMARY:The Mom Market
LOCATION:Orangeville Curling Club, 76 Fifth Avenue, Orangeville, ON
END:VEVENT
END:VCALENDAR
