BEGIN:VCALENDAR
VERSION:2.0
METHOD:PUBLISH
BEGIN:VEVENT
DTSTAMP:20260419T181106Z
DTSTART:20250823T120000Z
DTEND:20250823T180000Z
SUMMARY:The Mullet Sale - Sidewalk sale up front. Massive markdowns out back.
LOCATION:87 Broadway, Orangeville, ON
END:VEVENT
END:VCALENDAR
