BEGIN:VCALENDAR
VERSION:2.0
METHOD:PUBLISH
BEGIN:VEVENT
DTSTAMP:20260419T192146Z
DTSTART:20250822T233000Z
DTEND:20250822T233000Z
SUMMARY:The Neverending Story 
LOCATION:87 Broadway, Orangeville, ON
END:VEVENT
END:VCALENDAR
