BEGIN:VCALENDAR
VERSION:2.0
METHOD:PUBLISH
BEGIN:VEVENT
DTSTAMP:20260419T164340Z
DTSTART:20250817T120000Z
DTEND:20250817T120000Z
SUMMARY:Dufferin Film Festival
LOCATION:Opera House, 87 Broadway, Orangeville, ON
END:VEVENT
END:VCALENDAR
