BEGIN:VCALENDAR
VERSION:2.0
METHOD:PUBLISH
BEGIN:VEVENT
DTSTAMP:20260419T164325Z
DTSTART:20250815T210000Z
DTEND:20250815T210000Z
SUMMARY:Dufferin Film Festival
LOCATION:Opera House, 87 Broadway, Orangeville, ON
END:VEVENT
END:VCALENDAR
