BEGIN:VCALENDAR
VERSION:2.0
METHOD:PUBLISH
BEGIN:VEVENT
DTSTAMP:20260419T181051Z
DTSTART:20250810T180000Z
DTEND:20250810T190000Z
SUMMARY:Apothecay- North(519) Best of Toronto Fringe
LOCATION:87 Broadway, Orangeville, ON
END:VEVENT
END:VCALENDAR
