BEGIN:VCALENDAR
VERSION:2.0
METHOD:PUBLISH
BEGIN:VEVENT
DTSTAMP:20260419T151654Z
DTSTART:20250810T140000Z
DTEND:20250810T190000Z
SUMMARY:Orangeville ComiCon
LOCATION:Orangeville Curling Club, 76 Fifth Avenue, Orangeville, ON
END:VEVENT
END:VCALENDAR
