BEGIN:VCALENDAR
VERSION:2.0
METHOD:PUBLISH
BEGIN:VEVENT
DTSTAMP:20260419T141419Z
DTSTART:20250809T011500Z
DTEND:20250809T021500Z
SUMMARY:Me and You and the Highland Coo- North(519) Best of Toronto Fringe
LOCATION:87 Broadway, Orangeville, ON
END:VEVENT
END:VCALENDAR
