BEGIN:VCALENDAR
VERSION:2.0
METHOD:PUBLISH
BEGIN:VEVENT
DTSTAMP:20260419T192955Z
DTSTART:20250808T233000Z
DTEND:20250809T003000Z
SUMMARY:The Iron Mask- North(519) Best of Toronto Fringe
LOCATION:87 Broadway, Orangeville, ON
END:VEVENT
END:VCALENDAR
