BEGIN:VCALENDAR
VERSION:2.0
METHOD:PUBLISH
BEGIN:VEVENT
DTSTAMP:20260419T152754Z
DTSTART:20250808T220000Z
DTEND:20250809T020000Z
SUMMARY:Theatre Orangeville Summer Arts Fest 
LOCATION:87 Broadway, Orangeville, ON
END:VEVENT
END:VCALENDAR
