BEGIN:VCALENDAR
VERSION:2.0
METHOD:PUBLISH
BEGIN:VEVENT
DTSTAMP:20260421T184116Z
DTSTART:20250327T150000Z
DTEND:20250327T150000Z
SUMMARY:Bed and Breakfast
LOCATION:Theatre Orangeville, 87 Broadway, Orangeville, ON
END:VEVENT
END:VCALENDAR
