BEGIN:VCALENDAR
VERSION:2.0
METHOD:PUBLISH
BEGIN:VEVENT
DTSTAMP:20260421T172411Z
DTSTART:20250321T233000Z
DTEND:20250321T233000Z
SUMMARY:Bed and Breakfast
LOCATION:Theatre Orangeville, 87 Broadway, Orangeville, ON
END:VEVENT
END:VCALENDAR
