BEGIN:VCALENDAR
VERSION:2.0
METHOD:PUBLISH
BEGIN:VEVENT
DTSTAMP:20260421T172443Z
DTSTART:20250319T180000Z
DTEND:20250319T180000Z
SUMMARY:Bed and Breakfast
LOCATION:Theatre Orangeville, 87 Broadway, Orangeville, ON
END:VEVENT
END:VCALENDAR
