BEGIN:VCALENDAR
VERSION:2.0
METHOD:PUBLISH
BEGIN:VEVENT
DTSTAMP:20260419T163933Z
DTSTART:20241031T170000Z
DTEND:20241031T180000Z
SUMMARY:Cancer Support Group
LOCATION:346255 15 Sideroad
END:VEVENT
END:VCALENDAR
