BEGIN:VCALENDAR
VERSION:2.0
METHOD:PUBLISH
BEGIN:VEVENT
DTSTAMP:20260419T165833Z
DTSTART:20240626T233000Z
DTEND:20240626T233000Z
SUMMARY:Leisa Way's Opry Gold: Hits of the Kings &amp; Queens of Country
LOCATION:Opera House, 87 Broadway, Orangeville, ON
END:VEVENT
END:VCALENDAR
