BEGIN:VCALENDAR
VERSION:2.0
METHOD:PUBLISH
BEGIN:VEVENT
DTSTAMP:20260419T140614Z
DTSTART:20240622T233000Z
DTEND:20240622T233000Z
SUMMARY:The Great Benjamins Circus
LOCATION:Orangeville Fairgrounds, 247090 5th Sideroad, Mono, ON
END:VEVENT
END:VCALENDAR
