BEGIN:VCALENDAR
VERSION:2.0
METHOD:PUBLISH
BEGIN:VEVENT
DTSTAMP:20260419T164437Z
DTSTART:20240622T120000Z
DTEND:20240622T170000Z
SUMMARY:Orangeville Farmers' Market
LOCATION:Beside Town Hall - 87 Broadway, Orangeville, ON
END:VEVENT
END:VCALENDAR
