BEGIN:VCALENDAR
VERSION:2.0
METHOD:PUBLISH
BEGIN:VEVENT
DTSTAMP:20260419T164053Z
DTSTART:20240621T233000Z
DTEND:20240621T233000Z
SUMMARY:We Will Rock You
LOCATION:87 Broadway, Orangeville, ON
END:VEVENT
END:VCALENDAR
