BEGIN:VCALENDAR
VERSION:2.0
METHOD:PUBLISH
BEGIN:VEVENT
DTSTAMP:20260419T210038Z
DTSTART:20240621T130000Z
DTEND:20240621T210000Z
SUMMARY:Barry Burman Summer Shootout Tournament
LOCATION:6 Northmen Way, Orangeville, ON
END:VEVENT
END:VCALENDAR
