BEGIN:VCALENDAR
VERSION:2.0
METHOD:PUBLISH
BEGIN:VEVENT
DTSTAMP:20260419T180838Z
DTSTART:20240619T220000Z
DTEND:20240620T003000Z
SUMMARY:Cruisin’ on First Classic &amp; Custom Car Show
LOCATION:99 First Street, Orangeville, ON 
END:VEVENT
END:VCALENDAR
