BEGIN:VCALENDAR
VERSION:2.0
METHOD:PUBLISH
BEGIN:VEVENT
DTSTAMP:20260419T192236Z
DTSTART:20240615T180000Z
DTEND:20240615T180000Z
SUMMARY:We Will Rock You
LOCATION:87 Broadway, Orangeville, ON
END:VEVENT
END:VCALENDAR
